BEGIN:VCALENDAR
VERSION:2.0
PRODID:-//eventon.com NONSGML v1.0//EN
BEGIN:VEVENT
UID:69eca4f0b2d26
DTSTAMP:20260425T062640
DTSTART:20200804T180000Z
DTEND:20200804T203000Z
TZID:UTC
LOCATION:
SUMMARY:Club Officer Training (COT)
DESCRIPTION: REGISTER ON ZOOM: https://zoom.us/meeting/register/tJMocOygpjwiHtc1ERSDYwnjrSXs7gEv5fYK DESCRIPTION OF COURSE: District 56 hosts training for Club Officers twice annually.  Round 1 training occurs between June 1 and August 31.  Clubs with four officers attending training in round 1 will receive credit toward the training goal in the Distinguished Club Program.  Arrive early for[..]
URL:https://toastmastershouston.sitedevpro.com/events/club-officer-training-cot/var/event_access
END:VEVENT
END:VCALENDAR