BEGIN:VCALENDAR
VERSION:2.0
PRODID:-//eventon.com NONSGML v1.0//EN
BEGIN:VEVENT
UID:69ecd2e7d7bb8
DTSTAMP:20260425T094247
DTSTART:20250501
DTEND:20250701
TZID:America/Chicago
LOCATION:
SUMMARY:Beat the Clock Membership-Building Program!
DESCRIPTION: Beat The Clock Membership-Building Program Program Dates: May 1 &#8211; June 30 Toastmasters are taught to run meetings on time\,  finish speeches on time and reach membership goals on time. In that spirit\,  &#8216;Beat the Clock&#8217; is a great motivator for finishing the year on schedule—on time and with record[..]
URL:https://toastmastershouston.sitedevpro.com/events/beat-the-clock-2/var/ri-4.l-L1
END:VEVENT
END:VCALENDAR