BEGIN:VCALENDAR
VERSION:2.0
PRODID:-//eventon.com NONSGML v1.0//EN
BEGIN:VEVENT
UID:69ece6d9ead39
DTSTAMP:20260425T110753
DTSTART:20220501
DTEND:20220701
TZID:America/Chicago
LOCATION:
SUMMARY:Beat the Clock Membership-Building Program!
DESCRIPTION: Beat The Clock Membership-Building Program Program Dates: May 1 &#8211; June 30 Toastmasters are taught to run meetings on time\,  finish speeches on time and reach membership goals on time. In that spirit\,  &#8216;Beat the Clock&#8217; is a great motivator for finishing the year on schedule—on time and with record[..]
URL:https://toastmastershouston.sitedevpro.com/events/beat-the-clock-2/var/ri-1.l-L1
END:VEVENT
END:VCALENDAR